Package: CNORfuzzy Version: 1.53.0 Command: /home/biocbuild/bbs-3.23-bioc/R/bin/R CMD INSTALL CNORfuzzy StartedAt: 2025-10-30 15:15:10 -0400 (Thu, 30 Oct 2025) EndedAt: 2025-10-30 15:15:20 -0400 (Thu, 30 Oct 2025) EllapsedTime: 10.1 seconds RetCode: 0 Status: OK