Package: CNORfuzzy Version: 1.53.0 Command: /home/biocbuild/bbs-3.23-bioc/R/bin/R CMD check --install=check:CNORfuzzy.install-out.txt --library=/home/biocbuild/bbs-3.23-bioc/R/site-library --timings CNORfuzzy_1.53.0.tar.gz StartedAt: 2025-10-31 22:08:30 -0400 (Fri, 31 Oct 2025) EndedAt: 2025-10-31 22:09:53 -0400 (Fri, 31 Oct 2025) EllapsedTime: 83.1 seconds RetCode: 0 Status: OK CheckDir: CNORfuzzy.Rcheck Warnings: 0