Package: CNORfuzzy Version: 1.52.0 Command: /Library/Frameworks/R.framework/Resources/bin/R CMD check --install=check:CNORfuzzy.install-out.txt --library=/Library/Frameworks/R.framework/Resources/library --no-vignettes --timings CNORfuzzy_1.52.0.tar.gz StartedAt: 2025-10-30 03:01:56 -0400 (Thu, 30 Oct 2025) EndedAt: 2025-10-30 03:03:17 -0400 (Thu, 30 Oct 2025) EllapsedTime: 81.1 seconds RetCode: 0 Status: OK CheckDir: CNORfuzzy.Rcheck Warnings: 0