Package: CNORfeeder Version: 1.49.0 Command: /Library/Frameworks/R.framework/Resources/bin/R CMD INSTALL CNORfeeder StartedAt: 2025-10-07 15:20:03 -0400 (Tue, 07 Oct 2025) EndedAt: 2025-10-07 15:20:18 -0400 (Tue, 07 Oct 2025) EllapsedTime: 14.5 seconds RetCode: 0 Status: OK