Package: CNORfeeder Version: 1.49.0 Command: /Library/Frameworks/R.framework/Resources/bin/R CMD build --keep-empty-dirs --no-resave-data CNORfeeder StartedAt: 2025-10-07 16:29:22 -0400 (Tue, 07 Oct 2025) EndedAt: 2025-10-07 16:29:43 -0400 (Tue, 07 Oct 2025) EllapsedTime: 21.6 seconds RetCode: 0 Status: OK PackageFile: CNORfeeder_1.49.0.tar.gz PackageFileSize: 3.434 MiB