Package: CNORfeeder Version: 1.49.0 Command: rm -rf CNORfeeder.buildbin-libdir && mkdir CNORfeeder.buildbin-libdir && /Users/biocbuild/BBS/utils/build-universal.sh CNORfeeder_1.49.0.tar.gz /Library/Frameworks/R.framework/Resources/bin/R CNORfeeder.buildbin-libdir StartedAt: 2025-10-08 02:10:58 -0400 (Wed, 08 Oct 2025) EndedAt: 2025-10-08 02:11:14 -0400 (Wed, 08 Oct 2025) EllapsedTime: 16.2 seconds RetCode: 0 Status: OK PackageFile: CNORfeeder_1.49.0.tgz PackageFileSize: 2.194 MiB