Package: CNORfeeder Version: 1.49.0 Maintainer: Attila Gabor MaintainerEmail: attila.gabor at uni-heidelberg.de git_url: https://git.bioconductor.org/packages/CNORfeeder git_branch: devel git_last_commit: c411711 git_last_commit_date: 2025-04-15 10:23:16 -0400 (Tue, 15 Apr 2025)