Package: CNORdt Version: 1.53.0 Command: /home/biocbuild/bbs-3.23-bioc/R/bin/R CMD INSTALL CNORdt StartedAt: 2025-11-20 15:16:04 -0500 (Thu, 20 Nov 2025) EndedAt: 2025-11-20 15:16:13 -0500 (Thu, 20 Nov 2025) EllapsedTime: 8.1 seconds RetCode: 0 Status: OK