Package: CNORdt Version: 1.53.0 Command: /home/biocbuild/bbs-3.23-bioc/R/bin/R CMD build --keep-empty-dirs --no-resave-data CNORdt StartedAt: 2025-11-20 16:53:05 -0500 (Thu, 20 Nov 2025) EndedAt: 2025-11-20 16:53:48 -0500 (Thu, 20 Nov 2025) EllapsedTime: 43.1 seconds RetCode: 0 Status: OK PackageFile: CNORdt_1.53.0.tar.gz PackageFileSize: 319.1 KiB