Package: CNORdt Version: 1.51.0 Command: /Library/Frameworks/R.framework/Resources/bin/R CMD INSTALL CNORdt StartedAt: 2025-10-20 15:22:01 -0400 (Mon, 20 Oct 2025) EndedAt: 2025-10-20 15:22:15 -0400 (Mon, 20 Oct 2025) EllapsedTime: 13.8 seconds RetCode: 0 Status: OK