Package: CNORdt Version: 1.51.0 Command: /Library/Frameworks/R.framework/Resources/bin/R CMD build --keep-empty-dirs --no-resave-data CNORdt StartedAt: 2025-10-19 16:33:28 -0400 (Sun, 19 Oct 2025) EndedAt: 2025-10-19 16:34:24 -0400 (Sun, 19 Oct 2025) EllapsedTime: 56.3 seconds RetCode: 0 Status: OK PackageFile: CNORdt_1.51.0.tar.gz PackageFileSize: 319.3 KiB