Package: CNORdt Version: 1.51.0 Command: /Library/Frameworks/R.framework/Resources/bin/R CMD INSTALL CNORdt StartedAt: 2025-10-03 15:08:30 -0400 (Fri, 03 Oct 2025) EndedAt: 2025-10-03 15:08:35 -0400 (Fri, 03 Oct 2025) EllapsedTime: 4.2 seconds RetCode: 0 Status: OK