Package: CNORdt Version: 1.51.0 Command: /Library/Frameworks/R.framework/Resources/bin/R CMD build --keep-empty-dirs --no-resave-data CNORdt StartedAt: 2025-10-03 15:57:41 -0400 (Fri, 03 Oct 2025) EndedAt: 2025-10-03 15:58:06 -0400 (Fri, 03 Oct 2025) EllapsedTime: 25.3 seconds RetCode: 0 Status: OK PackageFile: CNORdt_1.51.0.tar.gz PackageFileSize: 319.5 KiB