Package: CNORdt Version: 1.51.0 Command: rm -rf CNORdt.buildbin-libdir && mkdir CNORdt.buildbin-libdir && /Users/biocbuild/BBS/utils/build-universal.sh CNORdt_1.51.0.tar.gz /Library/Frameworks/R.framework/Resources/bin/R CNORdt.buildbin-libdir StartedAt: 2025-10-03 22:34:41 -0400 (Fri, 03 Oct 2025) EndedAt: 2025-10-03 22:34:47 -0400 (Fri, 03 Oct 2025) EllapsedTime: 5.1 seconds RetCode: 0 Status: OK PackageFile: CNORdt_1.51.0.tgz PackageFileSize: 327.2 KiB