Package: CNEr Version: 1.45.2 Command: /home/biocbuild/bbs-3.22-bioc/R/bin/R CMD build --keep-empty-dirs --no-resave-data --md5 CNEr StartedAt: 2025-10-08 17:14:52 -0400 (Wed, 08 Oct 2025) EndedAt: 2025-10-08 17:16:44 -0400 (Wed, 08 Oct 2025) EllapsedTime: 112.1 seconds RetCode: 0 Status: OK PackageFile: CNEr_1.45.2.tar.gz PackageFileSize: 9.587 MiB