Package: CNAnorm Version: 1.57.0 Command: /home/biocbuild/bbs-3.23-bioc/R/bin/R CMD build --keep-empty-dirs --no-resave-data CNAnorm StartedAt: 2025-11-21 16:53:25 -0500 (Fri, 21 Nov 2025) EndedAt: 2025-11-21 16:53:41 -0500 (Fri, 21 Nov 2025) EllapsedTime: 16.0 seconds RetCode: 0 Status: OK PackageFile: CNAnorm_1.57.0.tar.gz PackageFileSize: 1.521 MiB