Package: CNAnorm Version: 1.57.0 Command: /Library/Frameworks/R.framework/Resources/bin/R CMD build --keep-empty-dirs --no-resave-data CNAnorm StartedAt: 2025-11-21 16:31:35 -0500 (Fri, 21 Nov 2025) EndedAt: 2025-11-21 16:32:01 -0500 (Fri, 21 Nov 2025) EllapsedTime: 26.1 seconds RetCode: 0 Status: OK PackageFile: CNAnorm_1.57.0.tar.gz PackageFileSize: 1.521 MiB