Package: CNAnorm Version: 1.57.0 Command: rm -rf CNAnorm.buildbin-libdir && mkdir CNAnorm.buildbin-libdir && /Users/biocbuild/BBS/utils/build-universal.sh CNAnorm_1.57.0.tar.gz /Library/Frameworks/R.framework/Resources/bin/R CNAnorm.buildbin-libdir StartedAt: 2025-11-22 01:27:45 -0500 (Sat, 22 Nov 2025) EndedAt: 2025-11-22 01:28:01 -0500 (Sat, 22 Nov 2025) EllapsedTime: 16.1 seconds RetCode: 0 Status: OK PackageFile: CNAnorm_1.57.0.tgz PackageFileSize: 1.846 MiB