Package: CNAnorm Version: 1.55.0 Command: /Library/Frameworks/R.framework/Resources/bin/R CMD INSTALL CNAnorm StartedAt: 2025-10-23 15:01:31 -0400 (Thu, 23 Oct 2025) EndedAt: 2025-10-23 15:01:34 -0400 (Thu, 23 Oct 2025) EllapsedTime: 3.4 seconds RetCode: 0 Status: OK