Package: CNAnorm Version: 1.55.0 Command: /Library/Frameworks/R.framework/Resources/bin/R CMD build --keep-empty-dirs --no-resave-data CNAnorm StartedAt: 2025-10-23 15:58:24 -0400 (Thu, 23 Oct 2025) EndedAt: 2025-10-23 15:58:33 -0400 (Thu, 23 Oct 2025) EllapsedTime: 9.1 seconds RetCode: 0 Status: OK PackageFile: CNAnorm_1.55.0.tar.gz PackageFileSize: 1.521 MiB