Package: CNAnorm Version: 1.55.0 Command: rm -rf CNAnorm.buildbin-libdir && mkdir CNAnorm.buildbin-libdir && /Users/biocbuild/BBS/utils/build-universal.sh CNAnorm_1.55.0.tar.gz /Library/Frameworks/R.framework/Resources/bin/R CNAnorm.buildbin-libdir StartedAt: 2025-10-23 23:04:45 -0400 (Thu, 23 Oct 2025) EndedAt: 2025-10-23 23:04:49 -0400 (Thu, 23 Oct 2025) EllapsedTime: 4.1 seconds RetCode: 0 Status: OK PackageFile: CNAnorm_1.55.0.tgz PackageFileSize: 1.849 MiB