Package: CMA Version: 1.69.0 Command: /home/biocbuild/bbs-3.23-bioc/R/bin/R CMD INSTALL CMA StartedAt: 2025-11-04 15:11:13 -0500 (Tue, 04 Nov 2025) EndedAt: 2025-11-04 15:11:26 -0500 (Tue, 04 Nov 2025) EllapsedTime: 12.6 seconds RetCode: 0 Status: OK