Package: CMA Version: 1.67.0 Command: /Library/Frameworks/R.framework/Resources/bin/R CMD INSTALL CMA StartedAt: 2025-10-03 15:13:35 -0400 (Fri, 03 Oct 2025) EndedAt: 2025-10-03 15:13:55 -0400 (Fri, 03 Oct 2025) EllapsedTime: 19.5 seconds RetCode: 0 Status: OK