Package: CMA Version: 1.67.0 Command: /Library/Frameworks/R.framework/Resources/bin/R CMD build --keep-empty-dirs --no-resave-data CMA StartedAt: 2025-10-03 16:28:05 -0400 (Fri, 03 Oct 2025) EndedAt: 2025-10-03 16:28:47 -0400 (Fri, 03 Oct 2025) EllapsedTime: 42.3 seconds RetCode: 0 Status: OK PackageFile: CMA_1.67.0.tar.gz PackageFileSize: 1.208 MiB