Package: CMA Version: 1.69.0 Command: /Library/Frameworks/R.framework/Resources/bin/R CMD INSTALL CMA StartedAt: 2025-11-20 15:06:48 -0500 (Thu, 20 Nov 2025) EndedAt: 2025-11-20 15:06:53 -0500 (Thu, 20 Nov 2025) EllapsedTime: 5.1 seconds RetCode: 0 Status: OK