Package: CMA Version: 1.69.0 Command: /Library/Frameworks/R.framework/Resources/bin/R CMD build --keep-empty-dirs --no-resave-data CMA StartedAt: 2025-11-20 15:56:19 -0500 (Thu, 20 Nov 2025) EndedAt: 2025-11-20 15:56:32 -0500 (Thu, 20 Nov 2025) EllapsedTime: 13.1 seconds RetCode: 0 Status: OK PackageFile: CMA_1.69.0.tar.gz PackageFileSize: 1.21 MiB