Package: CMA Version: 1.69.0 Command: rm -rf CMA.buildbin-libdir && mkdir CMA.buildbin-libdir && /Users/biocbuild/BBS/utils/build-universal.sh CMA_1.69.0.tar.gz /Library/Frameworks/R.framework/Resources/bin/R CMA.buildbin-libdir StartedAt: 2025-11-20 23:28:00 -0500 (Thu, 20 Nov 2025) EndedAt: 2025-11-20 23:28:07 -0500 (Thu, 20 Nov 2025) EllapsedTime: 7.2 seconds RetCode: 0 Status: OK PackageFile: CMA_1.69.0.tgz PackageFileSize: 1.901 MiB