Package: CINdex Version: 1.37.2 Command: /home/biocbuild/R/R/bin/R CMD INSTALL CINdex StartedAt: 2025-10-23 20:36:10 -0000 (Thu, 23 Oct 2025) EndedAt: 2025-10-23 20:36:40 -0000 (Thu, 23 Oct 2025) EllapsedTime: 29.8 seconds RetCode: 0 Status: OK