Package: CINdex Version: 1.37.2 Command: /home/biocbuild/R/R/bin/R CMD build --keep-empty-dirs --no-resave-data CINdex StartedAt: 2025-10-20 22:43:43 -0000 (Mon, 20 Oct 2025) EndedAt: 2025-10-20 22:49:00 -0000 (Mon, 20 Oct 2025) EllapsedTime: 316.8 seconds RetCode: 0 Status: OK PackageFile: CINdex_1.37.2.tar.gz PackageFileSize: 12.55 MiB