Package: CINdex Version: 1.37.2 Command: /home/biocbuild/bbs-3.22-bioc/R/bin/R CMD check --install=check:CINdex.install-out.txt --library=/home/biocbuild/bbs-3.22-bioc/R/site-library --timings CINdex_1.37.2.tar.gz StartedAt: 2025-10-24 22:13:28 -0400 (Fri, 24 Oct 2025) EndedAt: 2025-10-24 22:18:54 -0400 (Fri, 24 Oct 2025) EllapsedTime: 325.4 seconds RetCode: 1 Status: ERROR CheckDir: CINdex.Rcheck Warnings: NA