Package: CINdex Version: 1.37.2 Command: /Library/Frameworks/R.framework/Resources/bin/R CMD INSTALL CINdex StartedAt: 2025-10-03 15:17:38 -0400 (Fri, 03 Oct 2025) EndedAt: 2025-10-03 15:18:13 -0400 (Fri, 03 Oct 2025) EllapsedTime: 34.8 seconds RetCode: 0 Status: OK