Package: CINdex Version: 1.37.2 Command: /Library/Frameworks/R.framework/Resources/bin/R CMD build --keep-empty-dirs --no-resave-data CINdex StartedAt: 2025-10-03 16:25:25 -0400 (Fri, 03 Oct 2025) EndedAt: 2025-10-03 16:30:08 -0400 (Fri, 03 Oct 2025) EllapsedTime: 283.0 seconds RetCode: 0 Status: OK PackageFile: CINdex_1.37.2.tar.gz PackageFileSize: 12.51 MiB