Package: CINdex Version: 1.37.2 Command: rm -rf CINdex.buildbin-libdir && mkdir CINdex.buildbin-libdir && /Users/biocbuild/BBS/utils/build-universal.sh CINdex_1.37.2.tar.gz /Library/Frameworks/R.framework/Resources/bin/R CINdex.buildbin-libdir StartedAt: 2025-10-04 01:58:01 -0400 (Sat, 04 Oct 2025) EndedAt: 2025-10-04 01:58:38 -0400 (Sat, 04 Oct 2025) EllapsedTime: 37.2 seconds RetCode: 0 Status: OK PackageFile: CINdex_1.37.2.tgz PackageFileSize: 16.6 MiB