Package: CIMICE Version: 1.19.0 Command: /home/biocbuild/bbs-3.23-bioc/R/bin/R CMD INSTALL CIMICE StartedAt: 2025-11-07 15:11:27 -0500 (Fri, 07 Nov 2025) EndedAt: 2025-11-07 15:11:45 -0500 (Fri, 07 Nov 2025) EllapsedTime: 17.6 seconds RetCode: 0 Status: OK