Package: CIMICE Version: 1.19.0 Command: /home/biocbuild/bbs-3.23-bioc/R/bin/R CMD build --keep-empty-dirs --no-resave-data CIMICE StartedAt: 2025-11-07 16:47:42 -0500 (Fri, 07 Nov 2025) EndedAt: 2025-11-07 16:48:07 -0500 (Fri, 07 Nov 2025) EllapsedTime: 25.0 seconds RetCode: 0 Status: OK PackageFile: CIMICE_1.19.0.tar.gz PackageFileSize: 1.596 MiB