Package: CIMICE Version: 1.17.0 Command: /Library/Frameworks/R.framework/Resources/bin/R CMD INSTALL CIMICE StartedAt: 2025-10-09 15:13:10 -0400 (Thu, 09 Oct 2025) EndedAt: 2025-10-09 15:13:30 -0400 (Thu, 09 Oct 2025) EllapsedTime: 20.1 seconds RetCode: 0 Status: OK