Package: CIMICE Version: 1.17.0 Command: /Library/Frameworks/R.framework/Resources/bin/R CMD build --keep-empty-dirs --no-resave-data CIMICE StartedAt: 2025-10-09 16:26:47 -0400 (Thu, 09 Oct 2025) EndedAt: 2025-10-09 16:27:27 -0400 (Thu, 09 Oct 2025) EllapsedTime: 39.7 seconds RetCode: 0 Status: OK PackageFile: CIMICE_1.17.0.tar.gz PackageFileSize: 1.54 MiB