Package: CIMICE Version: 1.17.0 Command: rm -rf CIMICE.buildbin-libdir && mkdir CIMICE.buildbin-libdir && /Users/biocbuild/BBS/utils/build-universal.sh CIMICE_1.17.0.tar.gz /Library/Frameworks/R.framework/Resources/bin/R CIMICE.buildbin-libdir StartedAt: 2025-10-10 02:27:38 -0400 (Fri, 10 Oct 2025) EndedAt: 2025-10-10 02:27:56 -0400 (Fri, 10 Oct 2025) EllapsedTime: 17.3 seconds RetCode: 0 Status: OK PackageFile: CIMICE_1.17.0.tgz PackageFileSize: 1.26 MiB