Package: CHRONOS Version: 1.37.0 Command: /home/biocbuild/R/R/bin/R CMD build --keep-empty-dirs --no-resave-data CHRONOS StartedAt: 2025-10-09 23:31:44 -0000 (Thu, 09 Oct 2025) EndedAt: 2025-10-09 23:33:44 -0000 (Thu, 09 Oct 2025) EllapsedTime: 120.0 seconds RetCode: 1 Status: ERROR PackageFile: None PackageFileSize: NA