Package: CHRONOS Version: 1.39.0 Command: /home/biocbuild/bbs-3.23-bioc/R/bin/R CMD INSTALL CHRONOS StartedAt: 2025-11-07 15:26:57 -0500 (Fri, 07 Nov 2025) EndedAt: 2025-11-07 15:27:17 -0500 (Fri, 07 Nov 2025) EllapsedTime: 19.8 seconds RetCode: 0 Status: OK