Package: CHRONOS Version: 1.39.0 Command: /home/biocbuild/bbs-3.23-bioc/R/bin/R CMD check --install=check:CHRONOS.install-out.txt --library=/home/biocbuild/bbs-3.23-bioc/R/site-library --timings CHRONOS_1.39.0.tar.gz StartedAt: 2025-11-13 22:03:12 -0500 (Thu, 13 Nov 2025) EndedAt: 2025-11-13 22:05:55 -0500 (Thu, 13 Nov 2025) EllapsedTime: 162.2 seconds RetCode: 0 Status: OK CheckDir: CHRONOS.Rcheck Warnings: 0