Package: CHRONOS Version: 1.39.0 Command: /home/biocbuild/bbs-3.23-bioc/R/bin/R CMD build --keep-empty-dirs --no-resave-data CHRONOS StartedAt: 2025-11-07 16:47:19 -0500 (Fri, 07 Nov 2025) EndedAt: 2025-11-07 16:47:49 -0500 (Fri, 07 Nov 2025) EllapsedTime: 30.0 seconds RetCode: 0 Status: OK PackageFile: CHRONOS_1.39.0.tar.gz PackageFileSize: 1.118 MiB