Package: CHETAH Version: 1.25.1 Command: /Library/Frameworks/R.framework/Resources/bin/R CMD INSTALL CHETAH StartedAt: 2025-10-16 15:41:00 -0400 (Thu, 16 Oct 2025) EndedAt: 2025-10-16 15:41:11 -0400 (Thu, 16 Oct 2025) EllapsedTime: 11.3 seconds RetCode: 0 Status: OK