Package: CHETAH Version: 1.25.1 Command: /Library/Frameworks/R.framework/Resources/bin/R CMD build --keep-empty-dirs --no-resave-data CHETAH StartedAt: 2025-10-16 16:06:34 -0400 (Thu, 16 Oct 2025) EndedAt: 2025-10-16 16:06:58 -0400 (Thu, 16 Oct 2025) EllapsedTime: 24.3 seconds RetCode: 0 Status: OK PackageFile: CHETAH_1.25.1.tar.gz PackageFileSize: 3.58 MiB