Package: CGHregions Version: 1.69.0 Command: /home/biocbuild/bbs-3.23-bioc/R/bin/R CMD INSTALL CGHregions StartedAt: 2025-11-03 15:14:25 -0500 (Mon, 03 Nov 2025) EndedAt: 2025-11-03 15:14:29 -0500 (Mon, 03 Nov 2025) EllapsedTime: 4.1 seconds RetCode: 0 Status: OK