Package: CGHregions Version: 1.67.0 Command: /Library/Frameworks/R.framework/Resources/bin/R CMD build --keep-empty-dirs --no-resave-data CGHregions StartedAt: 2025-10-13 16:26:44 -0400 (Mon, 13 Oct 2025) EndedAt: 2025-10-13 16:27:01 -0400 (Mon, 13 Oct 2025) EllapsedTime: 17.1 seconds RetCode: 0 Status: OK PackageFile: CGHregions_1.67.0.tar.gz PackageFileSize: 213.5 KiB