Package: CGHnormaliter Version: 1.63.0 Command: /home/biocbuild/R/R/bin/R CMD INSTALL CGHnormaliter StartedAt: 2025-10-13 20:48:39 -0000 (Mon, 13 Oct 2025) EndedAt: 2025-10-13 20:48:45 -0000 (Mon, 13 Oct 2025) EllapsedTime: 5.4 seconds RetCode: 0 Status: OK