Package: CGHnormaliter Version: 1.63.0 Command: /home/biocbuild/bbs-3.22-bioc/R/bin/R CMD check --install=check:CGHnormaliter.install-out.txt --library=/home/biocbuild/bbs-3.22-bioc/R/site-library --timings CGHnormaliter_1.63.0.tar.gz StartedAt: 2025-10-07 22:13:20 -0400 (Tue, 07 Oct 2025) EndedAt: 2025-10-07 22:15:17 -0400 (Tue, 07 Oct 2025) EllapsedTime: 117.1 seconds RetCode: 0 Status: OK CheckDir: CGHnormaliter.Rcheck Warnings: 0