Package: CGHcall Version: 2.71.0 Command: /home/biocbuild/R/R/bin/R CMD INSTALL CGHcall StartedAt: 2025-10-20 20:26:21 -0000 (Mon, 20 Oct 2025) EndedAt: 2025-10-20 20:26:28 -0000 (Mon, 20 Oct 2025) EllapsedTime: 6.5 seconds RetCode: 0 Status: OK