Package: CGHcall Version: 2.71.0 Command: /home/biocbuild/bbs-3.22-bioc/R/bin/R CMD check --install=check:CGHcall.install-out.txt --library=/home/biocbuild/bbs-3.22-bioc/R/site-library --timings CGHcall_2.71.0.tar.gz StartedAt: 2025-10-16 23:04:36 -0400 (Thu, 16 Oct 2025) EndedAt: 2025-10-16 23:05:22 -0400 (Thu, 16 Oct 2025) EllapsedTime: 46.0 seconds RetCode: 0 Status: WARNINGS CheckDir: CGHcall.Rcheck Warnings: 1